BEGIN:VCALENDAR
VERSION:2.0
PRODID:-//FV! Teutonia zu Lippe - ECPv6.15.17.1//NONSGML v1.0//EN
CALSCALE:GREGORIAN
METHOD:PUBLISH
X-ORIGINAL-URL:https://www.teutonia-lippe.de
X-WR-CALDESC:Veranstaltungen für FV! Teutonia zu Lippe
REFRESH-INTERVAL;VALUE=DURATION:PT1H
X-Robots-Tag:noindex
X-PUBLISHED-TTL:PT1H
BEGIN:VTIMEZONE
TZID:Europe/Berlin
BEGIN:DAYLIGHT
TZOFFSETFROM:+0100
TZOFFSETTO:+0200
TZNAME:CEST
DTSTART:20230326T010000
END:DAYLIGHT
BEGIN:STANDARD
TZOFFSETFROM:+0200
TZOFFSETTO:+0100
TZNAME:CET
DTSTART:20231029T010000
END:STANDARD
BEGIN:DAYLIGHT
TZOFFSETFROM:+0100
TZOFFSETTO:+0200
TZNAME:CEST
DTSTART:20240331T010000
END:DAYLIGHT
BEGIN:STANDARD
TZOFFSETFROM:+0200
TZOFFSETTO:+0100
TZNAME:CET
DTSTART:20241027T010000
END:STANDARD
BEGIN:DAYLIGHT
TZOFFSETFROM:+0100
TZOFFSETTO:+0200
TZNAME:CEST
DTSTART:20250330T010000
END:DAYLIGHT
BEGIN:STANDARD
TZOFFSETFROM:+0200
TZOFFSETTO:+0100
TZNAME:CET
DTSTART:20251026T010000
END:STANDARD
END:VTIMEZONE
BEGIN:VEVENT
DTSTART;TZID=Europe/Berlin:20240503T200000
DTEND;TZID=Europe/Berlin:20240503T200000
DTSTAMP:20260420T013714
CREATED:20240311T132425Z
LAST-MODIFIED:20240311T135223Z
UID:3372-1714766400-1714766400@www.teutonia-lippe.de
SUMMARY:Teutonen-Stammtisch a.d.H.*\, mD
DESCRIPTION:Mit  ^  gekennzeichnete Veranstaltungen sind bundesintern oder nur mit geladenen Gästen.\nBei allen mit  *  gekennzeichneten Veranstaltungen sind Freunde und Gäste herzlich willkommen.\nDas Kürzel „mD“ heißt „mit Damen“.\nhct – hora cum tempore = „mit Zeit“\, die akademische Viertelstunde.\nhst – hora sine tempore = „ohne Zeit“\, unbedingt pünktliches Erscheinen!\nVor jedem # Stamm finden um 19 hst Fuxenstunden statt!\n\nTerminänderungen und Ergänzungen werden gesondert bekannt gegeben.
URL:https://www.teutonia-lippe.de/event/teutonen-stammtisch-adh-12-2-2-2-2-10-2-2-2-2-2-2-2-2-5-3-2-5-3-3-2-2-2-3-3-2-2/
LOCATION:Auf dem Haus\, Untere Mühlenstraße 6\, Bad Salzuflen\, NRW\, 32105\, Germany
CATEGORIES:*,a.d.H,hct,mD
END:VEVENT
BEGIN:VEVENT
DTSTART;VALUE=DATE:20240509
DTEND;VALUE=DATE:20240511
DTSTAMP:20260420T013714
CREATED:20240311T103125Z
LAST-MODIFIED:20240311T140524Z
UID:3351-1715234400-1715320799@www.teutonia-lippe.de
SUMMARY:Tagesprogramm ^
DESCRIPTION:Liebe Bbr. Bbr.\, Fbr. Fbr.\, werte Freunde der Teutonia\, \nam 09. Mai steigt wieder unsere Vatertagswanderung. Unser Ziel wird ??? sein. \nDer Tag beginnt um 11.00 Uhr hct\, mit einem gemeinsamen Frühstück bei unserem Praesiden. Von dort aus geht es … na lasst euch mal überraschen … und zurück nach Schötmar\, wo wir den Tag ab 18.00 Uhr mit Grill & Co „Pfeiffer’s Paradies“ ausklingen lassen wollen. Hierzu sind auch unsere Damen herzlichst eingeladen. \nWir freuen uns wieder auf einen schönen Tag mit allen Bbr. Bbr.\, Fbr. Fbr. und Gästen. \nMit schwarz-weiß-grünen Grüßen\, \nDas Präsidium \n\nMit  ^  gekennzeichnete Veranstaltungen sind bundesintern oder nur mit geladenen Gästen.\nBei allen mit  *  gekennzeichneten Veranstaltungen sind Freunde und Gäste herzlich willkommen.\nDas Kürzel „mD“ heißt „mit Damen“.\nhct – hora cum tempore = „mit Zeit“\, die akademische Viertelstunde.\nhst – hora sine tempore = „ohne Zeit“\, unbedingt pünktliches Erscheinen!\n\nTerminänderungen und Ergänzungen werden gesondert bekannt gegeben.
URL:https://www.teutonia-lippe.de/event/vatertagswanderung-ab-18h-md-2-2-2-2/
CATEGORIES:^,hst
ATTACH;FMTTYPE=image/png:https://www.teutonia-lippe.de/wp-content/uploads/2019/02/Teut_Tour.png
END:VEVENT
BEGIN:VEVENT
DTSTART;TZID=Europe/Berlin:20240509T110000
DTEND;TZID=Europe/Berlin:20240509T110000
DTSTAMP:20260420T013714
CREATED:20240311T103026Z
LAST-MODIFIED:20240311T140456Z
UID:3349-1715252400-1715252400@www.teutonia-lippe.de
SUMMARY:Vatertagsfrühstück beim Präsiden ^
DESCRIPTION:Liebe Bbr. Bbr.\, Fbr. Fbr.\, werte Freunde der Teutonia\, \nam 09. Mai steigt wieder unsere Vatertagswanderung. Unser Ziel wird ??? sein. \nDer Tag beginnt um 11.00 Uhr hct\, mit einem gemeinsamen Frühstück bei unserem Praesiden. Von dort aus geht es … na lasst euch mal überraschen … und zurück nach Schötmar\, wo wir den Tag ab 18.00 Uhr mit Grill & Co „Pfeiffer’s Paradies“ ausklingen lassen wollen. Hierzu sind auch unsere Damen herzlichst eingeladen. \nWir freuen uns wieder auf einen schönen Tag mit allen Bbr. Bbr.\, Fbr. Fbr. und Gästen. \nMit schwarz-weiß-grünen Grüßen\, \nDas Präsidium \n\nMit  ^  gekennzeichnete Veranstaltungen sind bundesintern oder nur mit geladenen Gästen.\nBei allen mit  *  gekennzeichneten Veranstaltungen sind Freunde und Gäste herzlich willkommen.\nDas Kürzel „mD“ heißt „mit Damen“.\nhct – hora cum tempore = „mit Zeit“\, die akademische Viertelstunde.\nhst – hora sine tempore = „ohne Zeit“\, unbedingt pünktliches Erscheinen!\n\nTerminänderungen und Ergänzungen werden gesondert bekannt gegeben.
URL:https://www.teutonia-lippe.de/event/vatertagswanderung-ab-18h-md-2-2-2/
CATEGORIES:^,hst
ATTACH;FMTTYPE=image/png:https://www.teutonia-lippe.de/wp-content/uploads/2019/02/Teut_Tour.png
END:VEVENT
BEGIN:VEVENT
DTSTART;TZID=Europe/Berlin:20240509T180000
DTEND;TZID=Europe/Berlin:20240509T180000
DTSTAMP:20260420T013714
CREATED:20240311T103801Z
LAST-MODIFIED:20240311T134220Z
UID:3353-1715277600-1715277600@www.teutonia-lippe.de
SUMMARY:Grillen in „Pfeiffer’s Paradies“ mD^
DESCRIPTION:Liebe Bbr. Bbr.\, Fbr. Fbr.\, werte Freunde der Teutonia\, \nam 09. Mai steigt wieder unsere Vatertagswanderung. Unser Ziel wird ??? sein. \nDer Tag beginnt um 11.00 Uhr hct\, mit einem gemeinsamen Frühstück bei unserem Praesiden. Von dort aus geht es … na lasst euch mal überraschen … und zurück nach Schötmar\, wo wir den Tag ab 18.00 Uhr mit Grill & Co „Pfeiffer’s Paradies“ ausklingen lassen wollen. Hierzu sind auch unsere Damen herzlichst eingeladen. \nWir freuen uns wieder auf einen schönen Tag mit allen Bbr. Bbr.\, Fbr. Fbr. und Gästen. \nMit schwarz-weiß-grünen Grüßen\, \nDas Präsidium \n\nMit  ^  gekennzeichnete Veranstaltungen sind bundesintern oder nur mit geladenen Gästen.\nBei allen mit  *  gekennzeichneten Veranstaltungen sind Freunde und Gäste herzlich willkommen.\nDas Kürzel „mD“ heißt „mit Damen“.\nhct – hora cum tempore = „mit Zeit“\, die akademische Viertelstunde.\nhst – hora sine tempore = „ohne Zeit“\, unbedingt pünktliches Erscheinen!\n\nTerminänderungen und Ergänzungen werden gesondert bekannt gegeben.
URL:https://www.teutonia-lippe.de/event/vatertagswanderung-ab-18h-md-2-2-2-3/
LOCATION:Pfeiffer’s Paradies
CATEGORIES:^,hst,mD
ATTACH;FMTTYPE=image/png:https://www.teutonia-lippe.de/wp-content/uploads/2019/02/Teut_Tour.png
END:VEVENT
BEGIN:VEVENT
DTSTART;TZID=Europe/Berlin:20240517T200000
DTEND;TZID=Europe/Berlin:20240517T200000
DTSTAMP:20260420T013714
CREATED:20240311T132523Z
LAST-MODIFIED:20240311T132523Z
UID:3373-1715976000-1715976000@www.teutonia-lippe.de
SUMMARY:Teutonen-Stammtisch a.d.H *
DESCRIPTION:Mit  ^  gekennzeichnete Veranstaltungen sind bundesintern oder nur mit geladenen Gästen.\nBei allen mit  *  gekennzeichneten Veranstaltungen sind Freunde und Gäste herzlich willkommen.\nDas Kürzel „mD“ heißt „mit Damen“.\nhct – hora cum tempore = „mit Zeit“\, die akademische Viertelstunde.\nhst – hora sine tempore = „ohne Zeit“\, unbedingt pünktliches Erscheinen!\nVor jedem # Stamm finden um 19 hst Fuxenstunden statt!\n\nTerminänderungen und Ergänzungen werden gesondert bekannt gegeben.
URL:https://www.teutonia-lippe.de/event/teutonen-stammtisch-adh-12-2-2-2-2-10-2-2-2-2-2-2-2-2-5-3-2-5-3-3-2-2-2-3-3-2-3/
LOCATION:Auf dem Haus\, Untere Mühlenstraße 6\, Bad Salzuflen\, NRW\, 32105\, Germany
CATEGORIES:*,a.d.H,hct
END:VEVENT
BEGIN:VEVENT
DTSTART;TZID=Europe/Berlin:20240524T200000
DTEND;TZID=Europe/Berlin:20240524T203000
DTSTAMP:20260420T013714
CREATED:20240311T132555Z
LAST-MODIFIED:20240311T132555Z
UID:3374-1716580800-1716582600@www.teutonia-lippe.de
SUMMARY:Teutonen-Stammtisch a.d.H *
DESCRIPTION:Mit  ^  gekennzeichnete Veranstaltungen sind bundesintern oder nur mit geladenen Gästen.\nBei allen mit  *  gekennzeichneten Veranstaltungen sind Freunde und Gäste herzlich willkommen.\nDas Kürzel „mD“ heißt „mit Damen“.\nhct – hora cum tempore = „mit Zeit“\, die akademische Viertelstunde.\nhst – hora sine tempore = „ohne Zeit“\, unbedingt pünktliches Erscheinen!\nVor jedem # Stamm finden um 19 hst Fuxenstunden statt!\n\nTerminänderungen und Ergänzungen werden gesondert bekannt gegeben.
URL:https://www.teutonia-lippe.de/event/teutonen-stammtisch-adh-12-2-2-2-2-10-2-2-2-2-2-2-2-2-5-3-2-5-3-3-2-2-2-3-3-2-4/
LOCATION:Auf dem Haus\, Untere Mühlenstraße 6\, Bad Salzuflen\, NRW\, 32105\, Germany
CATEGORIES:*,a.d.H,hct
END:VEVENT
BEGIN:VEVENT
DTSTART;TZID=Europe/Berlin:20240531T200000
DTEND;TZID=Europe/Berlin:20240531T200000
DTSTAMP:20260420T013714
CREATED:20240311T132655Z
LAST-MODIFIED:20240311T132655Z
UID:3375-1717185600-1717185600@www.teutonia-lippe.de
SUMMARY:Teutonen-Stammtisch a.d.H *
DESCRIPTION:Mit  ^  gekennzeichnete Veranstaltungen sind bundesintern oder nur mit geladenen Gästen.\nBei allen mit  *  gekennzeichneten Veranstaltungen sind Freunde und Gäste herzlich willkommen.\nDas Kürzel „mD“ heißt „mit Damen“.\nhct – hora cum tempore = „mit Zeit“\, die akademische Viertelstunde.\nhst – hora sine tempore = „ohne Zeit“\, unbedingt pünktliches Erscheinen!\nVor jedem # Stamm finden um 19 hst Fuxenstunden statt!\n\nTerminänderungen und Ergänzungen werden gesondert bekannt gegeben.
URL:https://www.teutonia-lippe.de/event/teutonen-stammtisch-adh-12-2-2-2-2-10-2-2-2-2-2-2-2-2-5-3-2-5-3-3-2-2-2-3-3-2-5/
LOCATION:Auf dem Haus\, Untere Mühlenstraße 6\, Bad Salzuflen\, NRW\, 32105\, Germany
CATEGORIES:*,a.d.H,hct
END:VEVENT
END:VCALENDAR