BEGIN:VCALENDAR
VERSION:2.0
PRODID:-//FV! Teutonia zu Lippe - ECPv6.15.17.1//NONSGML v1.0//EN
CALSCALE:GREGORIAN
METHOD:PUBLISH
X-WR-CALNAME:FV! Teutonia zu Lippe
X-ORIGINAL-URL:https://www.teutonia-lippe.de
X-WR-CALDESC:Veranstaltungen für FV! Teutonia zu Lippe
REFRESH-INTERVAL;VALUE=DURATION:PT1H
X-Robots-Tag:noindex
X-PUBLISHED-TTL:PT1H
BEGIN:VTIMEZONE
TZID:Europe/Berlin
BEGIN:DAYLIGHT
TZOFFSETFROM:+0100
TZOFFSETTO:+0200
TZNAME:CEST
DTSTART:20230326T010000
END:DAYLIGHT
BEGIN:STANDARD
TZOFFSETFROM:+0200
TZOFFSETTO:+0100
TZNAME:CET
DTSTART:20231029T010000
END:STANDARD
BEGIN:DAYLIGHT
TZOFFSETFROM:+0100
TZOFFSETTO:+0200
TZNAME:CEST
DTSTART:20240331T010000
END:DAYLIGHT
BEGIN:STANDARD
TZOFFSETFROM:+0200
TZOFFSETTO:+0100
TZNAME:CET
DTSTART:20241027T010000
END:STANDARD
BEGIN:DAYLIGHT
TZOFFSETFROM:+0100
TZOFFSETTO:+0200
TZNAME:CEST
DTSTART:20250330T010000
END:DAYLIGHT
BEGIN:STANDARD
TZOFFSETFROM:+0200
TZOFFSETTO:+0100
TZNAME:CET
DTSTART:20251026T010000
END:STANDARD
END:VTIMEZONE
BEGIN:VEVENT
DTSTART;TZID=Europe/Berlin:20240202T200000
DTEND;TZID=Europe/Berlin:20240202T200000
DTSTAMP:20260420T061924
CREATED:20230922T161715Z
LAST-MODIFIED:20230922T161715Z
UID:3316-1706904000-1706904000@www.teutonia-lippe.de
SUMMARY:Teutonen-Stammtisch a.d.H. * mD
DESCRIPTION:Mit  ^  gekennzeichnete Veranstaltungen sind bundesintern oder nur mit geladenen Gästen.\nBei allen mit  *  gekennzeichneten Veranstaltungen sind Freunde und Gäste herzlich willkommen.\nDas Kürzel „mD“ heißt „mit Damen“.\nhct – hora cum tempore = „mit Zeit“\, die akademische Viertelstunde.\nhst – hora sine tempore = „ohne Zeit“\, unbedingt pünktliches Erscheinen!\nVor jedem # Stamm finden um 19 hst Fuxenstunden statt!\n\nTerminänderungen und Ergänzungen werden gesondert bekannt gegeben.
URL:https://www.teutonia-lippe.de/event/teutonen-stammtisch-adh-12-2-2-2-2-10-2-2-2-2-2-2-2-2-5-3-2-3-2-2-2-2/
LOCATION:Auf dem Haus\, Untere Mühlenstraße 6\, Bad Salzuflen\, NRW\, 32105\, Germany
CATEGORIES:*,a.d.H,hct
END:VEVENT
BEGIN:VEVENT
DTSTART;TZID=Europe/Berlin:20240203T100000
DTEND;TZID=Europe/Berlin:20240203T100000
DTSTAMP:20260420T061924
CREATED:20230922T161900Z
LAST-MODIFIED:20230922T161900Z
UID:3318-1706954400-1706954400@www.teutonia-lippe.de
SUMMARY:2. Hausarbeitstag
DESCRIPTION:Mit  ^  gekennzeichnete Veranstaltungen sind bundesintern oder nur mit geladenen Gästen.\nBei allen mit  *  gekennzeichneten Veranstaltungen sind Freunde und Gäste herzlich willkommen.\nDas Kürzel „mD“ heißt „mit Damen“.\nhct – hora cum tempore = „mit Zeit“\, die akademische Viertelstunde.\nhst – hora sine tempore = „ohne Zeit“\, unbedingt pünktliches Erscheinen!\nVor jedem # Stamm finden um 19 hst Fuxenstunden statt!\n\nTerminänderungen und Ergänzungen werden gesondert bekannt gegeben.
URL:https://www.teutonia-lippe.de/event/teutonen-stammtisch-adh-12-2-2-2-2-10-2-2-2-2-2-2-2-2-5-3-2-2-2/
LOCATION:Auf dem Haus\, Untere Mühlenstraße 6\, Bad Salzuflen\, NRW\, 32105\, Germany
CATEGORIES:*,a.d.H,hct
END:VEVENT
BEGIN:VEVENT
DTSTART;TZID=Europe/Berlin:20240209T200000
DTEND;TZID=Europe/Berlin:20240209T200000
DTSTAMP:20260420T061924
CREATED:20230922T162135Z
LAST-MODIFIED:20230922T162135Z
UID:3321-1707508800-1707508800@www.teutonia-lippe.de
SUMMARY:Teutonen-Stammtisch a.d.H *
DESCRIPTION:Mit  ^  gekennzeichnete Veranstaltungen sind bundesintern oder nur mit geladenen Gästen.\nBei allen mit  *  gekennzeichneten Veranstaltungen sind Freunde und Gäste herzlich willkommen.\nDas Kürzel „mD“ heißt „mit Damen“.\nhct – hora cum tempore = „mit Zeit“\, die akademische Viertelstunde.\nhst – hora sine tempore = „ohne Zeit“\, unbedingt pünktliches Erscheinen!\nVor jedem # Stamm finden um 19 hst Fuxenstunden statt!\n\nTerminänderungen und Ergänzungen werden gesondert bekannt gegeben.
URL:https://www.teutonia-lippe.de/event/teutonen-stammtisch-adh-12-2-2-2-2-10-2-2-2-2-2-2-2-2-5-3-2-5-3-3-2-3/
LOCATION:Auf dem Haus\, Untere Mühlenstraße 6\, Bad Salzuflen\, NRW\, 32105\, Germany
CATEGORIES:*,a.d.H,hct
END:VEVENT
BEGIN:VEVENT
DTSTART;TZID=Europe/Berlin:20240216T200000
DTEND;TZID=Europe/Berlin:20240216T200000
DTSTAMP:20260420T061924
CREATED:20230922T162038Z
LAST-MODIFIED:20230922T162038Z
UID:3320-1708113600-1708113600@www.teutonia-lippe.de
SUMMARY:Teutonen-Stammtisch a.d.H *
DESCRIPTION:Mit  ^  gekennzeichnete Veranstaltungen sind bundesintern oder nur mit geladenen Gästen.\nBei allen mit  *  gekennzeichneten Veranstaltungen sind Freunde und Gäste herzlich willkommen.\nDas Kürzel „mD“ heißt „mit Damen“.\nhct – hora cum tempore = „mit Zeit“\, die akademische Viertelstunde.\nhst – hora sine tempore = „ohne Zeit“\, unbedingt pünktliches Erscheinen!\nVor jedem # Stamm finden um 19 hst Fuxenstunden statt!\n\nTerminänderungen und Ergänzungen werden gesondert bekannt gegeben.
URL:https://www.teutonia-lippe.de/event/teutonen-stammtisch-adh-12-2-2-2-2-10-2-2-2-2-2-2-2-2-5-3-2-5-3-3-2-2/
LOCATION:Auf dem Haus\, Untere Mühlenstraße 6\, Bad Salzuflen\, NRW\, 32105\, Germany
CATEGORIES:*,a.d.H,hct
END:VEVENT
BEGIN:VEVENT
DTSTART;TZID=Europe/Berlin:20240217T150000
DTEND;TZID=Europe/Berlin:20240217T150000
DTSTAMP:20260420T061924
CREATED:20230922T162638Z
LAST-MODIFIED:20230922T162638Z
UID:3324-1708182000-1708182000@www.teutonia-lippe.de
SUMMARY:Generalconvent a.d.H. ^
DESCRIPTION:Mit  ^  gekennzeichnete Veranstaltungen sind bundesintern oder nur mit geladenen Gästen.\nBei allen mit  *  gekennzeichneten Veranstaltungen sind Freunde und Gäste herzlich willkommen.\nDas Kürzel „mD“ heißt „mit Damen“.\nhct – hora cum tempore = „mit Zeit“\, die akademische Viertelstunde.\nhst – hora sine tempore = „ohne Zeit“\, unbedingt pünktliches Erscheinen!\n\nTerminänderungen und Ergänzungen werden gesondert bekannt gegeben.
URL:https://www.teutonia-lippe.de/event/gc-generalconvent-2/
LOCATION:Auf dem Haus\, Untere Mühlenstraße 6\, Bad Salzuflen\, NRW\, 32105\, Germany
CATEGORIES:^,hst
END:VEVENT
BEGIN:VEVENT
DTSTART;TZID=Europe/Berlin:20240217T200000
DTEND;TZID=Europe/Berlin:20240217T200000
DTSTAMP:20260420T061924
CREATED:20230922T162829Z
LAST-MODIFIED:20230922T162934Z
UID:3326-1708200000-1708200000@www.teutonia-lippe.de
SUMMARY:Landesvaterkneipe a.d.H. ^#
DESCRIPTION:Mit  ^  gekennzeichnete Veranstaltungen sind bundesintern oder nur mit geladenen Gästen.\nBei allen mit  *  gekennzeichneten Veranstaltungen sind Freunde und Gäste herzlich willkommen.\nDas Kürzel „mD“ heißt „mit Damen“.\nhct – hora cum tempore = „mit Zeit“\, die akademische Viertelstunde.\nhst – hora sine tempore = „ohne Zeit“\, unbedingt pünktliches Erscheinen!\n\nTerminänderungen und Ergänzungen werden gesondert bekannt gegeben.
URL:https://www.teutonia-lippe.de/event/129-stiftungskneipe-adh-2-3/
LOCATION:Auf dem Haus\, Untere Mühlenstraße 6\, Bad Salzuflen\, NRW\, 32105\, Germany
CATEGORIES:^,#,hst
ATTACH;FMTTYPE=image/jpeg:https://www.teutonia-lippe.de/wp-content/uploads/2015/01/couleur.jpg
END:VEVENT
BEGIN:VEVENT
DTSTART;TZID=Europe/Berlin:20240223T200000
DTEND;TZID=Europe/Berlin:20240223T200000
DTSTAMP:20260420T061924
CREATED:20230922T163114Z
LAST-MODIFIED:20230922T163114Z
UID:3329-1708718400-1708718400@www.teutonia-lippe.de
SUMMARY:Teutonen-Stammtisch a.d.H *
DESCRIPTION:Mit  ^  gekennzeichnete Veranstaltungen sind bundesintern oder nur mit geladenen Gästen.\nBei allen mit  *  gekennzeichneten Veranstaltungen sind Freunde und Gäste herzlich willkommen.\nDas Kürzel „mD“ heißt „mit Damen“.\nhct – hora cum tempore = „mit Zeit“\, die akademische Viertelstunde.\nhst – hora sine tempore = „ohne Zeit“\, unbedingt pünktliches Erscheinen!\nVor jedem # Stamm finden um 19 hst Fuxenstunden statt!\n\nTerminänderungen und Ergänzungen werden gesondert bekannt gegeben.
URL:https://www.teutonia-lippe.de/event/teutonen-stammtisch-adh-12-2-2-2-2-10-2-2-2-2-2-2-2-2-5-3-2-5-3-3-2-2-2/
LOCATION:Auf dem Haus\, Untere Mühlenstraße 6\, Bad Salzuflen\, NRW\, 32105\, Germany
CATEGORIES:*,a.d.H,hct
END:VEVENT
END:VCALENDAR