BEGIN:VCALENDAR
VERSION:2.0
PRODID:-//FV! Teutonia zu Lippe - ECPv6.15.17.1//NONSGML v1.0//EN
CALSCALE:GREGORIAN
METHOD:PUBLISH
X-WR-CALNAME:FV! Teutonia zu Lippe
X-ORIGINAL-URL:https://www.teutonia-lippe.de
X-WR-CALDESC:Veranstaltungen für FV! Teutonia zu Lippe
REFRESH-INTERVAL;VALUE=DURATION:PT1H
X-Robots-Tag:noindex
X-PUBLISHED-TTL:PT1H
BEGIN:VTIMEZONE
TZID:Europe/Helsinki
BEGIN:DAYLIGHT
TZOFFSETFROM:+0200
TZOFFSETTO:+0300
TZNAME:EEST
DTSTART:20210328T010000
END:DAYLIGHT
BEGIN:STANDARD
TZOFFSETFROM:+0300
TZOFFSETTO:+0200
TZNAME:EET
DTSTART:20211031T010000
END:STANDARD
BEGIN:DAYLIGHT
TZOFFSETFROM:+0200
TZOFFSETTO:+0300
TZNAME:EEST
DTSTART:20220327T010000
END:DAYLIGHT
BEGIN:STANDARD
TZOFFSETFROM:+0300
TZOFFSETTO:+0200
TZNAME:EET
DTSTART:20221030T010000
END:STANDARD
BEGIN:DAYLIGHT
TZOFFSETFROM:+0200
TZOFFSETTO:+0300
TZNAME:EEST
DTSTART:20230326T010000
END:DAYLIGHT
BEGIN:STANDARD
TZOFFSETFROM:+0300
TZOFFSETTO:+0200
TZNAME:EET
DTSTART:20231029T010000
END:STANDARD
END:VTIMEZONE
BEGIN:VEVENT
DTSTART;TZID=Europe/Helsinki:20220408T200000
DTEND;TZID=Europe/Helsinki:20220408T200000
DTSTAMP:20260424T022754
CREATED:20220408T081545Z
LAST-MODIFIED:20220408T130326Z
UID:3068-1649448000-1649448000@www.teutonia-lippe.de
SUMMARY:Teutonen-Stammtisch a.d.H. *
DESCRIPTION:Mit  ^  gekennzeichnete Veranstaltungen sind bundesintern oder nur mit geladenen Gästen.\nBei allen mit  *  gekennzeichneten Veranstaltungen sind Freunde und Gäste herzlich willkommen.\nDas Kürzel „mD“ heißt „mit Damen“.\nhct – hora cum tempore = „mit Zeit“\, die akademische Viertelstunde.\nhst – hora sine tempore = „ohne Zeit“\, unbedingt pünktliches Erscheinen!\nVor jedem # Stamm finden um 19 hst Fuxenstunden statt!\n\nTerminänderungen und Ergänzungen werden gesondert bekannt gegeben.
URL:https://www.teutonia-lippe.de/event/teutonen-stammtisch-adh-12-2/
LOCATION:Auf dem Haus\, Untere Mühlenstraße 6\, Bad Salzuflen\, NRW\, 32105\, Germany
CATEGORIES:*,a.d.H,hct
END:VEVENT
BEGIN:VEVENT
DTSTART;TZID=Europe/Helsinki:20220415T200000
DTEND;TZID=Europe/Helsinki:20220415T200000
DTSTAMP:20260424T022754
CREATED:20220408T081903Z
LAST-MODIFIED:20220408T125642Z
UID:3070-1650052800-1650052800@www.teutonia-lippe.de
SUMMARY:Oster-Stammtisch mit Soleieressen a.d.H. *
DESCRIPTION:Werte Bbr. Bbr.\, Fbr. Fbr. und Freunde der Teutonia\,\nan diesem Karfreitag solltet ihr auf keinen Fall das\nGroße Soleier Special auf dem Teutonenhaus verpassen. \nSoleier nach hauseigener Rezeptur\, von klassisch salzig bis feurig scharf (Habanero)\, mit allem was dazu gehört. Also Leute\, seid dabei und lasst euch überraschen! \n\nMit  ^  gekennzeichnete Veranstaltungen sind bundesintern oder nur mit geladenen Gästen.\nBei allen mit  *  gekennzeichneten Veranstaltungen sind Freunde und Gäste herzlich willkommen.\nDas Kürzel „mD“ heißt „mit Damen“.\nhct – hora cum tempore = „mit Zeit“\, die akademische Viertelstunde.\nhst – hora sine tempore = „ohne Zeit“\, unbedingt pünktliches Erscheinen!\n\nTerminänderungen und Ergänzungen werden gesondert bekannt gegeben.
URL:https://www.teutonia-lippe.de/event/oster-stammtisch-a-d-h-2-2/
LOCATION:Auf dem Haus\, Untere Mühlenstraße 6\, Bad Salzuflen\, NRW\, 32105\, Germany
CATEGORIES:*,a.d.H,hct
ATTACH;FMTTYPE=image/png:https://www.teutonia-lippe.de/wp-content/uploads/2015/01/Soleier.png
END:VEVENT
BEGIN:VEVENT
DTSTART;TZID=Europe/Helsinki:20220423T190000
DTEND;TZID=Europe/Helsinki:20220423T190000
DTSTAMP:20260424T022754
CREATED:20220408T082235Z
LAST-MODIFIED:20220408T082235Z
UID:3072-1650740400-1650740400@www.teutonia-lippe.de
SUMMARY:Geburtstags Party Bbr. Parler mD ^
DESCRIPTION:Mit  ^  gekennzeichnete Veranstaltungen sind bundesintern oder nur mit geladenen Gästen.\nBei allen mit  *  gekennzeichneten Veranstaltungen sind Freunde und Gäste herzlich willkommen.\nDas Kürzel „mD“ heißt „mit Damen“.\nhct – hora cum tempore = „mit Zeit“\, die akademische Viertelstunde.\nhst – hora sine tempore = „ohne Zeit“\, unbedingt pünktliches Erscheinen!\nVor jedem # Stamm finden um 19 hst Fuxenstunden statt!\n\nTerminänderungen und Ergänzungen werden gesondert bekannt gegeben.
URL:https://www.teutonia-lippe.de/event/party-adh-md-2/
LOCATION:Borsigstraße 3A
CATEGORIES:^,a.d.H,hct
END:VEVENT
BEGIN:VEVENT
DTSTART;TZID=Europe/Helsinki:20220429T200000
DTEND;TZID=Europe/Helsinki:20220429T200000
DTSTAMP:20260424T022754
CREATED:20220408T082457Z
LAST-MODIFIED:20220408T125901Z
UID:3075-1651262400-1651262400@www.teutonia-lippe.de
SUMMARY:Teutonen-Stamm mit Stühlerücken a.d.H *
DESCRIPTION:Mit  ^  gekennzeichnete Veranstaltungen sind bundesintern oder nur mit geladenen Gästen.\nBei allen mit  *  gekennzeichneten Veranstaltungen sind Freunde und Gäste herzlich willkommen.\nDas Kürzel „mD“ heißt „mit Damen“.\nhct – hora cum tempore = „mit Zeit“\, die akademische Viertelstunde.\nhst – hora sine tempore = „ohne Zeit“\, unbedingt pünktliches Erscheinen!\nVor jedem # Stamm finden um 19 hst Fuxenstunden statt!\n\nTerminänderungen und Ergänzungen werden gesondert bekannt gegeben.
URL:https://www.teutonia-lippe.de/event/teutonen-stammtisch-mit-stuehleruecken-adh-2/
LOCATION:Auf dem Haus\, Untere Mühlenstraße 6\, Bad Salzuflen\, NRW\, 32105\, Germany
CATEGORIES:*,a.d.H,hct
END:VEVENT
BEGIN:VEVENT
DTSTART;TZID=Europe/Helsinki:20220430T200000
DTEND;TZID=Europe/Helsinki:20220430T200000
DTSTAMP:20260424T022754
CREATED:20220408T084509Z
LAST-MODIFIED:20220408T130027Z
UID:3077-1651348800-1651348800@www.teutonia-lippe.de
SUMMARY:Dozenten-Kneipe ad honorem Bbr. Pfeiffer a.d.H ^
DESCRIPTION:Liebe BbrBbr\, liebe FbrFbr\, \nunser Bbr Rick Simons v/o Pfeiffer hat seine Dozententätigkeit an der Universität zu Bielefeld aufgenommen. \nAus diesem Grund ist es ihm eine Freude\, seine BbrBbr\, FbrFbr und einige Freunde einzuladen und eine zünftige Kneipe zu schlagen. \nDie Kneipe beginnt wie gewohnt um 20 hct. Wir hoffen\, dass sich Jeder von Euch auf den Weg machen wird um im Kreise der Teutonia mit Bbr Pfeiffer diese Kneipe zu schlagen. \nMit s-w-g Grüßen \nTobias Hübner v/o Baldur \nPraeside Teutoniae \n 
URL:https://www.teutonia-lippe.de/event/herbstkneipe-adh-2/
LOCATION:Auf dem Haus\, Untere Mühlenstraße 6\, Bad Salzuflen\, NRW\, 32105\, Germany
CATEGORIES:^,a.d.H,hst
END:VEVENT
END:VCALENDAR