BEGIN:VCALENDAR
VERSION:2.0
PRODID:-//FV! Teutonia zu Lippe - ECPv6.15.17.1//NONSGML v1.0//EN
CALSCALE:GREGORIAN
METHOD:PUBLISH
X-WR-CALNAME:FV! Teutonia zu Lippe
X-ORIGINAL-URL:https://www.teutonia-lippe.de
X-WR-CALDESC:Veranstaltungen für FV! Teutonia zu Lippe
REFRESH-INTERVAL;VALUE=DURATION:PT1H
X-Robots-Tag:noindex
X-PUBLISHED-TTL:PT1H
BEGIN:VTIMEZONE
TZID:Europe/Helsinki
BEGIN:DAYLIGHT
TZOFFSETFROM:+0200
TZOFFSETTO:+0300
TZNAME:EEST
DTSTART:20190331T010000
END:DAYLIGHT
BEGIN:STANDARD
TZOFFSETFROM:+0300
TZOFFSETTO:+0200
TZNAME:EET
DTSTART:20191027T010000
END:STANDARD
BEGIN:DAYLIGHT
TZOFFSETFROM:+0200
TZOFFSETTO:+0300
TZNAME:EEST
DTSTART:20200329T010000
END:DAYLIGHT
BEGIN:STANDARD
TZOFFSETFROM:+0300
TZOFFSETTO:+0200
TZNAME:EET
DTSTART:20201025T010000
END:STANDARD
BEGIN:DAYLIGHT
TZOFFSETFROM:+0200
TZOFFSETTO:+0300
TZNAME:EEST
DTSTART:20210328T010000
END:DAYLIGHT
BEGIN:STANDARD
TZOFFSETFROM:+0300
TZOFFSETTO:+0200
TZNAME:EET
DTSTART:20211031T010000
END:STANDARD
END:VTIMEZONE
BEGIN:VEVENT
DTSTART;VALUE=DATE:20200315
DTEND;VALUE=DATE:20200902
DTSTAMP:20260425T162622
CREATED:20200504T150602Z
LAST-MODIFIED:20200504T152000Z
UID:3032-1584252000-1598939999@www.teutonia-lippe.de
SUMMARY:Liebe Bbr. Bbr. und Fbr. Fbr.\, aufgrund der Maßnahmen zur Eindämmung der CORONA Pandemie bleibt das Teutonenhaus auch weiterhin geschlossen. Alle\, bis einschließlich 31. August 2020 geplanten Aktivitäten der FV! Teutonia zu Lippe v. 1890\, werden hiermit abgesagt.
DESCRIPTION:
URL:https://www.teutonia-lippe.de/event/liebe-bbr-bbr-und-fbr-fbr-aufgrund-der-umstaende-sind-alle-bis-einschliesslich-august-geplanten-aktivitaeten-der-fv-teutonia-zu-lippe-abgesagt/
LOCATION:Auf dem Haus\, Untere Mühlenstraße 6\, Bad Salzuflen\, NRW\, 32105\, Germany
CATEGORIES:^,*,a.d.H,hct,hst,mD
ATTACH;FMTTYPE=image/png:https://www.teutonia-lippe.de/wp-content/uploads/2020/05/Abgesagt-e1588604449306.png
END:VEVENT
END:VCALENDAR