BEGIN:VCALENDAR
VERSION:2.0
PRODID:-//FV! Teutonia zu Lippe - ECPv6.15.17.1//NONSGML v1.0//EN
CALSCALE:GREGORIAN
METHOD:PUBLISH
X-WR-CALNAME:FV! Teutonia zu Lippe
X-ORIGINAL-URL:https://www.teutonia-lippe.de
X-WR-CALDESC:Veranstaltungen für FV! Teutonia zu Lippe
REFRESH-INTERVAL;VALUE=DURATION:PT1H
X-Robots-Tag:noindex
X-PUBLISHED-TTL:PT1H
BEGIN:VTIMEZONE
TZID:Europe/Helsinki
BEGIN:DAYLIGHT
TZOFFSETFROM:+0200
TZOFFSETTO:+0300
TZNAME:EEST
DTSTART:20190331T010000
END:DAYLIGHT
BEGIN:STANDARD
TZOFFSETFROM:+0300
TZOFFSETTO:+0200
TZNAME:EET
DTSTART:20191027T010000
END:STANDARD
BEGIN:DAYLIGHT
TZOFFSETFROM:+0200
TZOFFSETTO:+0300
TZNAME:EEST
DTSTART:20200329T010000
END:DAYLIGHT
BEGIN:STANDARD
TZOFFSETFROM:+0300
TZOFFSETTO:+0200
TZNAME:EET
DTSTART:20201025T010000
END:STANDARD
BEGIN:DAYLIGHT
TZOFFSETFROM:+0200
TZOFFSETTO:+0300
TZNAME:EEST
DTSTART:20210328T010000
END:DAYLIGHT
BEGIN:STANDARD
TZOFFSETFROM:+0300
TZOFFSETTO:+0200
TZNAME:EET
DTSTART:20211031T010000
END:STANDARD
END:VTIMEZONE
BEGIN:VEVENT
DTSTART;TZID=Europe/Helsinki:20200207T200000
DTEND;TZID=Europe/Helsinki:20200207T200000
DTSTAMP:20260425T185813
CREATED:20190715T111112Z
LAST-MODIFIED:20190715T112626Z
UID:2879-1581105600-1581105600@www.teutonia-lippe.de
SUMMARY:Teutonen-Stammtisch adH *
DESCRIPTION:Mit  ^  gekennzeichnete Veranstaltungen sind bundesintern oder nur mit geladenen Gästen.\nBei allen mit  *  gekennzeichneten Veranstaltungen sind Freunde und Gäste herzlich willkommen.\nDas Kürzel „mD“ heißt „mit Damen“.\nhct – hora cum tempore = „mit Zeit“\, die akademische Viertelstunde.\nhst – hora sine tempore = „ohne Zeit“\, unbedingt pünktliches Erscheinen!\nVor jedem # Stamm finden um 19 hst Fuxenstunden statt!\n\nTerminänderungen und Ergänzungen werden gesondert bekannt gegeben.
URL:https://www.teutonia-lippe.de/event/teutonen-stammtisch-adh-11/
CATEGORIES:*
END:VEVENT
BEGIN:VEVENT
DTSTART;TZID=Europe/Helsinki:20200215T140000
DTEND;TZID=Europe/Helsinki:20200215T193000
DTSTAMP:20260425T185813
CREATED:20190715T111336Z
LAST-MODIFIED:20190715T133640Z
UID:2881-1581775200-1581795000@www.teutonia-lippe.de
SUMMARY:129. Generalconvent ^
DESCRIPTION:Mit  ^  gekennzeichnete Veranstaltungen sind bundesintern oder nur mit geladenen Gästen.\nBei allen mit  *  gekennzeichneten Veranstaltungen sind Freunde und Gäste herzlich willkommen.\nDas Kürzel „mD“ heißt „mit Damen“.\nhct – hora cum tempore = „mit Zeit“\, die akademische Viertelstunde.\nhst – hora sine tempore = „ohne Zeit“\, unbedingt pünktliches Erscheinen!\n\nTerminänderungen und Ergänzungen werden gesondert bekannt gegeben.
URL:https://www.teutonia-lippe.de/event/gc-generalconvent/
CATEGORIES:^,hst
END:VEVENT
BEGIN:VEVENT
DTSTART;TZID=Europe/Helsinki:20200215T200000
DTEND;TZID=Europe/Helsinki:20200215T200000
DTSTAMP:20260425T185813
CREATED:20190715T111435Z
LAST-MODIFIED:20190715T133917Z
UID:2883-1581796800-1581796800@www.teutonia-lippe.de
SUMMARY:GC- u. Semesterabschlusskneipe adH ^
DESCRIPTION:Mit  ^  gekennzeichnete Veranstaltungen sind bundesintern oder nur mit geladenen Gästen.\nBei allen mit  *  gekennzeichneten Veranstaltungen sind Freunde und Gäste herzlich willkommen.\nDas Kürzel „mD“ heißt „mit Damen“.\nhct – hora cum tempore = „mit Zeit“\, die akademische Viertelstunde.\nhst – hora sine tempore = „ohne Zeit“\, unbedingt pünktliches Erscheinen!\nVor jedem # Stamm finden um 19 hst Fuxenstunden statt!\n\nTerminänderungen und Ergänzungen werden gesondert bekannt gegeben.
URL:https://www.teutonia-lippe.de/event/gc-u-semesterabschlusskneipe-adh/
CATEGORIES:^,a.d.H,hst
END:VEVENT
BEGIN:VEVENT
DTSTART;TZID=Europe/Helsinki:20200221T200000
DTEND;TZID=Europe/Helsinki:20200221T200000
DTSTAMP:20260425T185813
CREATED:20190715T111824Z
LAST-MODIFIED:20190715T112518Z
UID:2886-1582315200-1582315200@www.teutonia-lippe.de
SUMMARY:Teutonen-Stammtisch adH *
DESCRIPTION:Mit  ^  gekennzeichnete Veranstaltungen sind bundesintern oder nur mit geladenen Gästen.\nBei allen mit  *  gekennzeichneten Veranstaltungen sind Freunde und Gäste herzlich willkommen.\nDas Kürzel „mD“ heißt „mit Damen“.\nhct – hora cum tempore = „mit Zeit“\, die akademische Viertelstunde.\nhst – hora sine tempore = „ohne Zeit“\, unbedingt pünktliches Erscheinen!\nVor jedem # Stamm finden um 19 hst Fuxenstunden statt!\n\nTerminänderungen und Ergänzungen werden gesondert bekannt gegeben.
URL:https://www.teutonia-lippe.de/event/teutonen-stammtisch-adh-12/
CATEGORIES:*,a.d.H,hct
END:VEVENT
BEGIN:VEVENT
DTSTART;TZID=Europe/Helsinki:20200228T200000
DTEND;TZID=Europe/Helsinki:20200228T200000
DTSTAMP:20260425T185813
CREATED:20190715T111915Z
LAST-MODIFIED:20190715T112426Z
UID:2888-1582920000-1582920000@www.teutonia-lippe.de
SUMMARY:Teutonen-Stammtisch adH *
DESCRIPTION:Mit  ^  gekennzeichnete Veranstaltungen sind bundesintern oder nur mit geladenen Gästen.\nBei allen mit  *  gekennzeichneten Veranstaltungen sind Freunde und Gäste herzlich willkommen.\nDas Kürzel „mD“ heißt „mit Damen“.\nhct – hora cum tempore = „mit Zeit“\, die akademische Viertelstunde.\nhst – hora sine tempore = „ohne Zeit“\, unbedingt pünktliches Erscheinen!\nVor jedem # Stamm finden um 19 hst Fuxenstunden statt!\n\nTerminänderungen und Ergänzungen werden gesondert bekannt gegeben.
URL:https://www.teutonia-lippe.de/event/teutonen-stammtisch-adh-13/
CATEGORIES:*,a.d.H,hct
END:VEVENT
END:VCALENDAR