BEGIN:VCALENDAR
VERSION:2.0
PRODID:-//FV! Teutonia zu Lippe - ECPv6.15.17.1//NONSGML v1.0//EN
CALSCALE:GREGORIAN
METHOD:PUBLISH
X-ORIGINAL-URL:https://www.teutonia-lippe.de
X-WR-CALDESC:Veranstaltungen für FV! Teutonia zu Lippe
REFRESH-INTERVAL;VALUE=DURATION:PT1H
X-Robots-Tag:noindex
X-PUBLISHED-TTL:PT1H
BEGIN:VTIMEZONE
TZID:Europe/Helsinki
BEGIN:DAYLIGHT
TZOFFSETFROM:+0200
TZOFFSETTO:+0300
TZNAME:EEST
DTSTART:20180325T010000
END:DAYLIGHT
BEGIN:STANDARD
TZOFFSETFROM:+0300
TZOFFSETTO:+0200
TZNAME:EET
DTSTART:20181028T010000
END:STANDARD
BEGIN:DAYLIGHT
TZOFFSETFROM:+0200
TZOFFSETTO:+0300
TZNAME:EEST
DTSTART:20190331T010000
END:DAYLIGHT
BEGIN:STANDARD
TZOFFSETFROM:+0300
TZOFFSETTO:+0200
TZNAME:EET
DTSTART:20191027T010000
END:STANDARD
BEGIN:DAYLIGHT
TZOFFSETFROM:+0200
TZOFFSETTO:+0300
TZNAME:EEST
DTSTART:20200329T010000
END:DAYLIGHT
BEGIN:STANDARD
TZOFFSETFROM:+0300
TZOFFSETTO:+0200
TZNAME:EET
DTSTART:20201025T010000
END:STANDARD
END:VTIMEZONE
BEGIN:VEVENT
DTSTART;TZID=Europe/Helsinki:20191101T200000
DTEND;TZID=Europe/Helsinki:20191101T200000
DTSTAMP:20260425T232029
CREATED:20190715T104543Z
LAST-MODIFIED:20190715T113252Z
UID:2847-1572638400-1572638400@www.teutonia-lippe.de
SUMMARY:Teutonen-Stammtisch adH *
DESCRIPTION:Mit  ^  gekennzeichnete Veranstaltungen sind bundesintern oder nur mit geladenen Gästen.\nBei allen mit  *  gekennzeichneten Veranstaltungen sind Freunde und Gäste herzlich willkommen.\nDas Kürzel „mD“ heißt „mit Damen“.\nhct – hora cum tempore = „mit Zeit“\, die akademische Viertelstunde.\nhst – hora sine tempore = „ohne Zeit“\, unbedingt pünktliches Erscheinen!\nVor jedem # Stamm finden um 19 hst Fuxenstunden statt!\n\nTerminänderungen und Ergänzungen werden gesondert bekannt gegeben.
URL:https://www.teutonia-lippe.de/event/teutonen-stammtisch-adh-5/
CATEGORIES:*,a.d.H,hct
END:VEVENT
BEGIN:VEVENT
DTSTART;TZID=Europe/Helsinki:20191108T200000
DTEND;TZID=Europe/Helsinki:20191108T200000
DTSTAMP:20260425T232029
CREATED:20190715T104653Z
LAST-MODIFIED:20190715T131713Z
UID:2849-1573243200-1573243200@www.teutonia-lippe.de
SUMMARY:Fuxenkneipe o´Polo adH *
DESCRIPTION:Mit  ^  gekennzeichnete Veranstaltungen sind bundesintern oder nur mit geladenen Gästen.\nBei allen mit  *  gekennzeichneten Veranstaltungen sind Freunde und Gäste herzlich willkommen.\nDas Kürzel „mD“ heißt „mit Damen“.\nhct – hora cum tempore = „mit Zeit“\, die akademische Viertelstunde.\nhst – hora sine tempore = „ohne Zeit“\, unbedingt pünktliches Erscheinen!\n\nTerminänderungen und Ergänzungen werden gesondert bekannt gegeben.
URL:https://www.teutonia-lippe.de/event/fuxenkneipe-opolo-adh/
CATEGORIES:*,a.d.H,hct
END:VEVENT
BEGIN:VEVENT
DTSTART;TZID=Europe/Helsinki:20191115T200000
DTEND;TZID=Europe/Helsinki:20191115T200000
DTSTAMP:20260425T232029
CREATED:20190715T104746Z
LAST-MODIFIED:20190715T113156Z
UID:2851-1573848000-1573848000@www.teutonia-lippe.de
SUMMARY:Teutonen-Stamm mit Stühlerücken adH *
DESCRIPTION:Mit  ^  gekennzeichnete Veranstaltungen sind bundesintern oder nur mit geladenen Gästen.\nBei allen mit  *  gekennzeichneten Veranstaltungen sind Freunde und Gäste herzlich willkommen.\nDas Kürzel „mD“ heißt „mit Damen“.\nhct – hora cum tempore = „mit Zeit“\, die akademische Viertelstunde.\nhst – hora sine tempore = „ohne Zeit“\, unbedingt pünktliches Erscheinen!\nVor jedem # Stamm finden um 19 hst Fuxenstunden statt!\n\nTerminänderungen und Ergänzungen werden gesondert bekannt gegeben.
URL:https://www.teutonia-lippe.de/event/teutonen-stammtisch-mit-stuehleruecken-adh/
CATEGORIES:*,a.d.H,hct
END:VEVENT
BEGIN:VEVENT
DTSTART;TZID=Europe/Helsinki:20191117T150000
DTEND;TZID=Europe/Helsinki:20191117T150000
DTSTAMP:20260425T232029
CREATED:20190715T105638Z
LAST-MODIFIED:20190715T131941Z
UID:2853-1574002800-1574002800@www.teutonia-lippe.de
SUMMARY:Volkstrauertag - Ehrenmal am Obernberg ^
DESCRIPTION:Mit  ^  gekennzeichnete Veranstaltungen sind bundesintern oder nur mit geladenen Gästen.\nBei allen mit  *  gekennzeichneten Veranstaltungen sind Freunde und Gäste herzlich willkommen.\nDas Kürzel „mD“ heißt „mit Damen“.\nhct – hora cum tempore = „mit Zeit“\, die akademische Viertelstunde.\nhst – hora sine tempore = „ohne Zeit“\, unbedingt pünktliches Erscheinen!\n\nTerminänderungen und Ergänzungen werden gesondert bekannt gegeben.
URL:https://www.teutonia-lippe.de/event/volkstrauertag-ehrenmal-obernberg/
CATEGORIES:^,hct
ATTACH;FMTTYPE=image/jpeg:https://www.teutonia-lippe.de/wp-content/uploads/2015/07/Ehrenmal.jpg
END:VEVENT
BEGIN:VEVENT
DTSTART;TZID=Europe/Helsinki:20191123T200000
DTEND;TZID=Europe/Helsinki:20191123T200000
DTSTAMP:20260425T232029
CREATED:20190715T110148Z
LAST-MODIFIED:20190715T132221Z
UID:2856-1574539200-1574539200@www.teutonia-lippe.de
SUMMARY:Damenkneipe adH *
DESCRIPTION:Mit  ^  gekennzeichnete Veranstaltungen sind bundesintern oder nur mit geladenen Gästen.\nBei allen mit  *  gekennzeichneten Veranstaltungen sind Freunde und Gäste herzlich willkommen.\nDas Kürzel „mD“ heißt „mit Damen“.\nhct – hora cum tempore = „mit Zeit“\, die akademische Viertelstunde.\nhst – hora sine tempore = „ohne Zeit“\, unbedingt pünktliches Erscheinen!\nVor jedem # Stamm finden um 19 hst Fuxenstunden statt!\n\nTerminänderungen und Ergänzungen werden gesondert bekannt gegeben.
URL:https://www.teutonia-lippe.de/event/damenkneipe-adh/
CATEGORIES:*,a.d.H,hct
END:VEVENT
BEGIN:VEVENT
DTSTART;TZID=Europe/Helsinki:20191129T200000
DTEND;TZID=Europe/Helsinki:20191129T200000
DTSTAMP:20260425T232029
CREATED:20190715T110258Z
LAST-MODIFIED:20190715T113045Z
UID:2858-1575057600-1575057600@www.teutonia-lippe.de
SUMMARY:Teutonen-Stammtisch adH *
DESCRIPTION:Mit  ^  gekennzeichnete Veranstaltungen sind bundesintern oder nur mit geladenen Gästen.\nBei allen mit  *  gekennzeichneten Veranstaltungen sind Freunde und Gäste herzlich willkommen.\nDas Kürzel „mD“ heißt „mit Damen“.\nhct – hora cum tempore = „mit Zeit“\, die akademische Viertelstunde.\nhst – hora sine tempore = „ohne Zeit“\, unbedingt pünktliches Erscheinen!\nVor jedem # Stamm finden um 19 hst Fuxenstunden statt!\n\nTerminänderungen und Ergänzungen werden gesondert bekannt gegeben.
URL:https://www.teutonia-lippe.de/event/teutonen-stammtisch-adh-6/
CATEGORIES:*,a.d.H,hct
END:VEVENT
END:VCALENDAR