BEGIN:VCALENDAR
VERSION:2.0
PRODID:-//FV! Teutonia zu Lippe - ECPv6.15.17.1//NONSGML v1.0//EN
CALSCALE:GREGORIAN
METHOD:PUBLISH
X-ORIGINAL-URL:https://www.teutonia-lippe.de
X-WR-CALDESC:Veranstaltungen für FV! Teutonia zu Lippe
REFRESH-INTERVAL;VALUE=DURATION:PT1H
X-Robots-Tag:noindex
X-PUBLISHED-TTL:PT1H
BEGIN:VTIMEZONE
TZID:Europe/Helsinki
BEGIN:DAYLIGHT
TZOFFSETFROM:+0200
TZOFFSETTO:+0300
TZNAME:EEST
DTSTART:20180325T010000
END:DAYLIGHT
BEGIN:STANDARD
TZOFFSETFROM:+0300
TZOFFSETTO:+0200
TZNAME:EET
DTSTART:20181028T010000
END:STANDARD
BEGIN:DAYLIGHT
TZOFFSETFROM:+0200
TZOFFSETTO:+0300
TZNAME:EEST
DTSTART:20190331T010000
END:DAYLIGHT
BEGIN:STANDARD
TZOFFSETFROM:+0300
TZOFFSETTO:+0200
TZNAME:EET
DTSTART:20191027T010000
END:STANDARD
BEGIN:DAYLIGHT
TZOFFSETFROM:+0200
TZOFFSETTO:+0300
TZNAME:EEST
DTSTART:20200329T010000
END:DAYLIGHT
BEGIN:STANDARD
TZOFFSETFROM:+0300
TZOFFSETTO:+0200
TZNAME:EET
DTSTART:20201025T010000
END:STANDARD
END:VTIMEZONE
BEGIN:VEVENT
DTSTART;TZID=Europe/Helsinki:20190906T200000
DTEND;TZID=Europe/Helsinki:20190906T200000
DTSTAMP:20260426T023832
CREATED:20190715T102214Z
LAST-MODIFIED:20190715T130848Z
UID:2828-1567800000-1567800000@www.teutonia-lippe.de
SUMMARY:Fuxenkneipe Gaudi adH * - Stühlerücken
DESCRIPTION:Mit  ^  gekennzeichnete Veranstaltungen sind bundesintern oder nur mit geladenen Gästen.\nBei allen mit  *  gekennzeichneten Veranstaltungen sind Freunde und Gäste herzlich willkommen.\nDas Kürzel „mD“ heißt „mit Damen“.\nhct – hora cum tempore = „mit Zeit“\, die akademische Viertelstunde.\nhst – hora sine tempore = „ohne Zeit“\, unbedingt pünktliches Erscheinen!\nVor jedem # Stamm finden um 19 hst Fuxenstunden statt!\n\nTerminänderungen und Ergänzungen werden gesondert bekannt gegeben.
URL:https://www.teutonia-lippe.de/event/fuxenkneipe-gaudi-adh-stuehleruecken/
CATEGORIES:*,a.d.H,hct
END:VEVENT
BEGIN:VEVENT
DTSTART;TZID=Europe/Helsinki:20190914T200000
DTEND;TZID=Europe/Helsinki:20190914T200000
DTSTAMP:20260426T023832
CREATED:20190715T102253Z
LAST-MODIFIED:20190903T103121Z
UID:2830-1568491200-1568491200@www.teutonia-lippe.de
SUMMARY:Kneipe "ad liberum arbitrium" adH ^
DESCRIPTION:Liebe BbrBbr\, liebe FbrFbr\, \nunser Bbr Tilo Peters v/o Ägir hat endlich seinen eigenen Großmarkt in Bad Pyrmont übernommen. \nAus diesem Grund ist es ihm eine Freude\, seine BbrBbr\, FbrFbr und einige Freunde einzuladen und eine zünftige Kneipe zu schlagen. Der Termin war ja schon seit dem AC im Juni bekannt\, nur an den Zeiten hat sich einiges geändert. So werden wir am \nSamstag\, 14. September\, bereits um 18.30 hst gemeinsam adH speisen. Treffen um 18 hct adH. \nDie Kneipe beginnt wie gewohnt um 20 hct. \nWir hoffen\, dass sich Jeder von Euch auf den Weg machen wird um im Kreise der Teutonia mit Bbr Ägir diese Kneipe zu schlagen. Wir haben ihr den Namen KNEIPE AD LIBERUM ARBITRIUM gegeben\, Kneipe zur Selbständigkeit. \nWir bitten wegen des Essens um möglichst sofortige Rückmeldung auf WhatsApp oder per Email. \nMit s-w-g Grüßen \nTobias Hübner v/o Baldur \nPraeside Teutoniae \n 
URL:https://www.teutonia-lippe.de/event/herbstkneipe-adh/
CATEGORIES:^,a.d.H,hst
END:VEVENT
BEGIN:VEVENT
DTSTART;TZID=Europe/Helsinki:20190920T200000
DTEND;TZID=Europe/Helsinki:20190920T200000
DTSTAMP:20260426T023832
CREATED:20190715T102338Z
LAST-MODIFIED:20190715T114008Z
UID:2832-1569009600-1569009600@www.teutonia-lippe.de
SUMMARY:Teutonen-Stammtisch adH *
DESCRIPTION:Mit  ^  gekennzeichnete Veranstaltungen sind bundesintern oder nur mit geladenen Gästen.\nBei allen mit  *  gekennzeichneten Veranstaltungen sind Freunde und Gäste herzlich willkommen.\nDas Kürzel „mD“ heißt „mit Damen“.\nhct – hora cum tempore = „mit Zeit“\, die akademische Viertelstunde.\nhst – hora sine tempore = „ohne Zeit“\, unbedingt pünktliches Erscheinen!\nVor jedem # Stamm finden um 19 hst Fuxenstunden statt!\n\nTerminänderungen und Ergänzungen werden gesondert bekannt gegeben.
URL:https://www.teutonia-lippe.de/event/teutonen-stammtisch-adh-2/
CATEGORIES:*,a.d.H,hct
END:VEVENT
BEGIN:VEVENT
DTSTART;TZID=Europe/Helsinki:20190927T200000
DTEND;TZID=Europe/Helsinki:20190927T200000
DTSTAMP:20260426T023832
CREATED:20190715T102439Z
LAST-MODIFIED:20190715T114716Z
UID:2834-1569614400-1569614400@www.teutonia-lippe.de
SUMMARY:Dart-Pokalturnier adH *
DESCRIPTION:Bei allen mit  *  gekennzeichneten Veranstaltungen sind Freunde und Gäste herzlich willkommen.\nDas Kürzel „mD“ heißt „mit Damen“.\nhct – hora cum tempore = „mit Zeit“\, die akademische Viertelstunde.\nhst – hora sine tempore = „ohne Zeit“\, unbedingt pünktliches Erscheinen!\n\nTerminänderungen und Ergänzungen werden gesondert bekannt gegeben.
URL:https://www.teutonia-lippe.de/event/dart-pokalturnier-adh/
CATEGORIES:*,a.d.H,hct
END:VEVENT
END:VCALENDAR